BEGIN:VCALENDAR
VERSION:2.0
BEGIN:VEVENT
URL:https://johncurtinhotel.oztix.com.au/outlet/event/d24d9437-a60b-442b-96ea-918ce41a72e3
DTSTART:20260516T100000Z
DTEND:20260516T100000Z
SUMMARY:NANCY AND THE JAM FANCYS (SYD) 'HIGHER THAN USUAL' SINGLE LAUNCH
DESCRIPTION:Event details: https://johncurtinhotel.oztix.com.au/outlet/event/d24d9437-a60b-442b-96ea-918ce41a72e3
LOCATION:John Curtin Hotel (Carlton, VIC)
END:VEVENT
END:VCALENDAR