BEGIN:VCALENDAR
VERSION:2.0
BEGIN:VEVENT
URL:https://johncurtinhotel.oztix.com.au/outlet/event/b2dae0d9-8931-4938-be0a-839e5c59eb42
DTSTART:20260515T100000Z
DTEND:20260515T100000Z
SUMMARY:WEST END GAP
DESCRIPTION:Event details: https://johncurtinhotel.oztix.com.au/outlet/event/b2dae0d9-8931-4938-be0a-839e5c59eb42
LOCATION:John Curtin Hotel (Carlton, VIC)
END:VEVENT
END:VCALENDAR