BEGIN:VCALENDAR
VERSION:2.0
BEGIN:VEVENT
URL:https://johncurtinhotel.oztix.com.au/outlet/event/6647aedc-88ce-4e7c-ae57-0540caffb5d6
DTSTART:20260529T100000Z
DTEND:20260529T100000Z
SUMMARY:SEX MASK
DESCRIPTION:Event details: https://johncurtinhotel.oztix.com.au/outlet/event/6647aedc-88ce-4e7c-ae57-0540caffb5d6
LOCATION:John Curtin Hotel (Carlton, VIC)
END:VEVENT
END:VCALENDAR