BEGIN:VCALENDAR
VERSION:2.0
BEGIN:VEVENT
URL:https://johncurtinhotel.oztix.com.au/outlet/event/09649d6c-4384-4825-9ee9-2b62c36e94d4
DTSTART:20260430T093000Z
DTEND:20260430T093000Z
SUMMARY:OLZA - 'SKEPTIA' ALBUM LAUNCH
DESCRIPTION:Event details: https://johncurtinhotel.oztix.com.au/outlet/event/09649d6c-4384-4825-9ee9-2b62c36e94d4
LOCATION:John Curtin Hotel (Carlton, VIC)
END:VEVENT
END:VCALENDAR